BEGIN:VCALENDAR
VERSION:2.0
PRODID:-//Yawara Berlin e.V. - ECPv6.15.17//NONSGML v1.0//EN
CALSCALE:GREGORIAN
METHOD:PUBLISH
X-ORIGINAL-URL:https://yawara.de
X-WR-CALDESC:Veranstaltungen für Yawara Berlin e.V.
REFRESH-INTERVAL;VALUE=DURATION:PT1H
X-Robots-Tag:noindex
X-PUBLISHED-TTL:PT1H
BEGIN:VTIMEZONE
TZID:Europe/Berlin
BEGIN:DAYLIGHT
TZOFFSETFROM:+0100
TZOFFSETTO:+0200
TZNAME:CEST
DTSTART:20220327T010000
END:DAYLIGHT
BEGIN:STANDARD
TZOFFSETFROM:+0200
TZOFFSETTO:+0100
TZNAME:CET
DTSTART:20221030T010000
END:STANDARD
BEGIN:DAYLIGHT
TZOFFSETFROM:+0100
TZOFFSETTO:+0200
TZNAME:CEST
DTSTART:20230326T010000
END:DAYLIGHT
BEGIN:STANDARD
TZOFFSETFROM:+0200
TZOFFSETTO:+0100
TZNAME:CET
DTSTART:20231029T010000
END:STANDARD
BEGIN:DAYLIGHT
TZOFFSETFROM:+0100
TZOFFSETTO:+0200
TZNAME:CEST
DTSTART:20240331T010000
END:DAYLIGHT
BEGIN:STANDARD
TZOFFSETFROM:+0200
TZOFFSETTO:+0100
TZNAME:CET
DTSTART:20241027T010000
END:STANDARD
BEGIN:DAYLIGHT
TZOFFSETFROM:+0100
TZOFFSETTO:+0200
TZNAME:CEST
DTSTART:20250330T010000
END:DAYLIGHT
BEGIN:STANDARD
TZOFFSETFROM:+0200
TZOFFSETTO:+0100
TZNAME:CET
DTSTART:20251026T010000
END:STANDARD
BEGIN:DAYLIGHT
TZOFFSETFROM:+0100
TZOFFSETTO:+0200
TZNAME:CEST
DTSTART:20260329T010000
END:DAYLIGHT
BEGIN:STANDARD
TZOFFSETFROM:+0200
TZOFFSETTO:+0100
TZNAME:CET
DTSTART:20261025T010000
END:STANDARD
BEGIN:DAYLIGHT
TZOFFSETFROM:+0100
TZOFFSETTO:+0200
TZNAME:CEST
DTSTART:20270328T010000
END:DAYLIGHT
BEGIN:STANDARD
TZOFFSETFROM:+0200
TZOFFSETTO:+0100
TZNAME:CET
DTSTART:20271031T010000
END:STANDARD
END:VTIMEZONE
BEGIN:VEVENT
DTSTART;TZID=Europe/Berlin:20260307T140000
DTEND;TZID=Europe/Berlin:20260308T170000
DTSTAMP:20260422T115119
CREATED:20251211T203245Z
LAST-MODIFIED:20260226T183245Z
UID:1449-1772892000-1772989200@yawara.de
SUMMARY:Kali Silat Evolution Semiar mit Jeff Espinous
DESCRIPTION:Fällt leider aus 🙁 \n \nHallo\, \nich darf euch mitteilen\, dass wir auch 2026 wieder Jeff Espinous in Berlin begrüßen dürfen. \nWie beim letzten mal haben wir einen Tag in der Sporthalle und einen Tag im echten Leben vorgesehen. \nAnmeldungen (oder Fragen) per Mail an philip@yawara.de. Die verfügbaren Plätze werden nach Reihenfolge der Anmeldungen vergeben. 80€ (2 Tage)/ 60€ (1 Tag) \nLG\nPhilip
URL:https://yawara.de/event/kali-silat-evolution-semiar-mit-jeff-espinous/
END:VEVENT
BEGIN:VEVENT
DTSTART;TZID=Europe/Berlin:20260307T130000
DTEND;TZID=Europe/Berlin:20260307T180000
DTSTAMP:20260422T115119
CREATED:20260226T183619Z
LAST-MODIFIED:20260226T183703Z
UID:1469-1772888400-1772906400@yawara.de
SUMMARY:Gedenkseminar für Jeff Espinous
DESCRIPTION:  \n \n 
URL:https://yawara.de/event/gedenkseminar-fuer-jeff-espinous/
END:VEVENT
BEGIN:VEVENT
DTSTART;TZID=Europe/Berlin:20260302T080000
DTEND;TZID=Europe/Berlin:20260302T170000
DTSTAMP:20260422T115119
CREATED:20260302T160708Z
LAST-MODIFIED:20260302T160708Z
UID:1476-1772438400-1772470800@yawara.de
SUMMARY:Ostdeutsches Budo-Event
DESCRIPTION:Am 14.4.2025 findet das „4. Ostdeutsches Budo-Event für Ju-Jutsu und seine Stilarten“ in Potsdam statt. 6 Stunden Ju Jutsu auf 6 parallelen Matten. Also guckt in den Seminarplan\, es ist für jede:n was dabei! \nSchnell anmelden bis zum  09.03.2026
URL:https://yawara.de/event/ostdeutsches-budo-event-2/
LOCATION:Motor-Sporthalle\, Konsumhof 1-5\, 14482 Potsdam
END:VEVENT
BEGIN:VEVENT
DTSTART;TZID=Europe/Berlin:20260214T130000
DTEND;TZID=Europe/Berlin:20260214T160000
DTSTAMP:20260422T115119
CREATED:20251211T205515Z
LAST-MODIFIED:20251211T205515Z
UID:1456-1771074000-1771084800@yawara.de
SUMMARY:„Weiterführungs- und Gegentechniken“ - Vermittlung von Grundlagen und Anwendungsformen
DESCRIPTION:… in Bernau. \nAusschreibung findet ihr hier: https://www.ju-jutsu-brandenburg.de/termine
URL:https://yawara.de/event/weiterfuehrungs-und-gegentechniken-vermittlung-von-grundlagen-und-anwendungsformen/
END:VEVENT
BEGIN:VEVENT
DTSTART;VALUE=DATE:20251215
DTEND;VALUE=DATE:20260105
DTSTAMP:20260422T115119
CREATED:20251126T162212Z
LAST-MODIFIED:20251126T162212Z
UID:1446-1765756800-1767571199@yawara.de
SUMMARY:Weihnachtspause
DESCRIPTION:
URL:https://yawara.de/event/weihnachtspause/
END:VEVENT
BEGIN:VEVENT
DTSTART;VALUE=DATE:20250728
DTEND;VALUE=DATE:20250908
DTSTAMP:20260422T115119
CREATED:20250707T205458Z
LAST-MODIFIED:20250707T205458Z
UID:1424-1753660800-1757289599@yawara.de
SUMMARY:Sommerschließzeit 2025 vom 28.7. bis zum7.9.
DESCRIPTION:
URL:https://yawara.de/event/sommerschliesszeit-2025-vom-28-7-bis-zum7-9/
END:VEVENT
BEGIN:VEVENT
DTSTART;VALUE=DATE:20250628
DTEND;VALUE=DATE:20250630
DTSTAMP:20260422T115119
CREATED:20250514T153745Z
LAST-MODIFIED:20250514T153745Z
UID:1419-1751068800-1751241599@yawara.de
SUMMARY:Filipino Fighting Arts Seminar in Berlin
DESCRIPTION:
URL:https://yawara.de/event/filipino-fighting-arts-seminar-in-berlin/
END:VEVENT
BEGIN:VEVENT
DTSTART;VALUE=DATE:20250426
DTEND;VALUE=DATE:20250427
DTSTAMP:20260422T115119
CREATED:20250226T200645Z
LAST-MODIFIED:20250226T201006Z
UID:1413-1745625600-1745711999@yawara.de
SUMMARY:Ju-Jitsu Akademie 2025 in Zeitz
DESCRIPTION:Am 26.4.2025 findet in Zeitz die „Ju-Jitsu Akademie 2025“ statt. Unbedingt anmelden und hinfahren! \n5 Stunden auf 4 verschiedenen Matten! \n-> Ausschreibung \n-> Seminarplan \nAnmeldung erfolgt über die Seite des Ju Jitsu Verbandes Sachsen Anhalt.
URL:https://yawara.de/event/ju-jitsu-akademie-2025-in-zeitz/
LOCATION:Zeitz – Landesleistungszentrum des Ju-Jitsu Sachsen Anhalt\, Albrechtstraße 17\, Zeitz
END:VEVENT
BEGIN:VEVENT
DTSTART;TZID=Europe/Berlin:20250322T100000
DTEND;TZID=Europe/Berlin:20250322T140000
DTSTAMP:20260422T115119
CREATED:20250202T173710Z
LAST-MODIFIED:20250202T173710Z
UID:1405-1742637600-1742652000@yawara.de
SUMMARY:Lehrgang "Prüfungsvorbereitungs- und Techniklehrgang" Großbeeren
DESCRIPTION:Seminar mit Lothar Spielmann zur Prüfungsvorbereitung in Großbeeren. \n\nInhalt und Aufbau des Prüfungsprogramms sowie Bewertung von Techniken in einer Prüfung\nsinnvolle Kombination und prinzipiengerechte Darstellung der geforderten (Einzel-)Techniken\nstichpunktartige Wiederholung (ausgewählter) Techniken 5. Kyu bis 2. Dan\nHinweise zur Darstellung von Weiterführungs- und Gegentechniken\nHinweise zur Ausführung der Abwehr von Stock- und Messerangriffen\nErarbeitung individueller Lösungsmöglichkeiten für bestimmte Aufgabenstellungen des Prüfungsprogramms.\n\nHier ist die Ausschreibung. \n 
URL:https://yawara.de/event/lehrgang-pruefungsvorbereitungs-und-techniklehrgang-grossbeeren/
END:VEVENT
BEGIN:VEVENT
DTSTART;TZID=Europe/Berlin:20250315T140000
DTEND;TZID=Europe/Berlin:20250316T160000
DTSTAMP:20260422T115119
CREATED:20241101T091324Z
LAST-MODIFIED:20250202T173912Z
UID:1354-1742047200-1742140800@yawara.de
SUMMARY:Seminar mit Jeff Espinous im 15. und 16.3.2025
DESCRIPTION:UPDATE: Hier gibt’s die neusten Infos zum Lehrgang: Ausschreibung_KSE-LG2025 \n \nSave the date – oder am Besten gleich anmelden!! Jeff Espinous kommt nach Berlin! Wer ihn kennt\, weiß Bescheid. Alle\, die ihn noch nicht kennen\, sollten sich die Chance nicht entgehen lassen\, eine besondere Interpretation der südostasiatischer Kampfkünste und der Selbstverteidigung zu erleben.\nAlle Level willkommen\, auch ohne Vorkenntnisse.\nSamstag Training im Dojo\,\nSonntag Spezialtraining in einer Bar – Selbstverteidigungstraining auf neuem Level! \n2 Tage 80€\n1 Tag 60€
URL:https://yawara.de/event/seminar-mit-jeff-espinous-im-15-und-16-3-2025/
END:VEVENT
BEGIN:VEVENT
DTSTART;VALUE=DATE:20250308
DTEND;VALUE=DATE:20250309
DTSTAMP:20260422T115119
CREATED:20250226T200107Z
LAST-MODIFIED:20250226T201133Z
UID:1411-1741392000-1741478399@yawara.de
SUMMARY:Ostdeutsches Budo-Event
DESCRIPTION:Wie bereits angekündigt\, findet am 8.3.2025 das „3. Ostdeutsches Budo-Event für Ju-Jutsu und seine Stilarten“ in Potsdam statt. 6 Stunden Ju Jutsu auf 6 parallelen Matten. Also guckt in den Seminarplan\, es ist für jede:n was dabei! Meldet euch an. \nDie Anreise aus Berlin ist einfach: S-Bahn bis Babelsberg und dann 10 Minuten zu Fuß. \nAchtung: Anmeldeschluss ist bis Montag (3.3.) 18 Uhr. Die Anmeldung erfolgt über die Webseite des Brandenburger Ju Jutsu Verbandes. \n-> Ausschreibung \n-> Seminarplan \n-> Seminarinhalte \nSee u there! \nPhilip
URL:https://yawara.de/event/ostdeutsches-budo-event/
LOCATION:Motor-Sporthalle\, Konsumhof 1-5\, 14482 Potsdam
END:VEVENT
BEGIN:VEVENT
DTSTART;TZID=Europe/Berlin:20250202T100000
DTEND;TZID=Europe/Berlin:20250202T130000
DTSTAMP:20260422T115119
CREATED:20250115T172924Z
LAST-MODIFIED:20250115T172924Z
UID:1375-1738490400-1738501200@yawara.de
SUMMARY:Landeslehrgang Bodentechniken in Siemensstadt
DESCRIPTION:Bodentechniken aus dem Ju Jutsu Programm mit Joachim Böker \nAusschreibung gibt’s hier \nSee u there \nPhilip
URL:https://yawara.de/event/landeslehrgang-bodentechniken-in-siemensstadt-2/
END:VEVENT
BEGIN:VEVENT
DTSTART;TZID=Europe/Berlin:20241103T110000
DTEND;TZID=Europe/Berlin:20241103T140000
DTSTAMP:20260422T115119
CREATED:20241024T140642Z
LAST-MODIFIED:20241024T140642Z
UID:1349-1730631600-1730642400@yawara.de
SUMMARY:Landeslehrgang Bodentechniken in Siemensstadt
DESCRIPTION:Am Sonntag\, 3. November 2024 gibt es einen Bodenlehrgang in Siemensstadt. \nAchtung: Anmeldeschluss ist schon kommenden Sonntag! \nDie Ausschreibung findet ihr hier.
URL:https://yawara.de/event/landeslehrgang-bodentechniken-in-siemensstadt/
LOCATION:Dojo des SC Siemensstadt im Sportcentrum des SCS\, Buolstraße 14\, Berlin\, 13629
END:VEVENT
BEGIN:VEVENT
DTSTART;VALUE=DATE:20240729
DTEND;VALUE=DATE:20240824
DTSTAMP:20260422T115119
CREATED:20240514T071624Z
LAST-MODIFIED:20240514T071624Z
UID:1331-1722211200-1724457599@yawara.de
SUMMARY:Sommerschließzeit 2024
DESCRIPTION:Hallenschließzeit in den Sommerferien. \nOb wir ein Ersatztraining im Park anbieten\, entscheiden wir dann kurzfristig gemeinsam!
URL:https://yawara.de/event/sommerschliesszeit-2024/
END:VEVENT
BEGIN:VEVENT
DTSTART;TZID=Europe/Berlin:20240713T120000
DTEND;TZID=Europe/Berlin:20240713T160000
DTSTAMP:20260422T115119
CREATED:20240623T080501Z
LAST-MODIFIED:20240623T080501Z
UID:1337-1720872000-1720886400@yawara.de
SUMMARY:Bundeslehrgang mit Achim Hanke in Potsdam
DESCRIPTION:Thema: „Gegen- und Weiterführungstechniken bei Wurf\, Kombinationen und Handlungskomplexe im Stand und Boden“ \nAusschreibung
URL:https://yawara.de/event/bundeslehrgang-mit-achim-hanke-in-potsdam/
END:VEVENT
BEGIN:VEVENT
DTSTART;TZID=Europe/Berlin:20240525T100000
DTEND;TZID=Europe/Berlin:20240525T130000
DTSTAMP:20260422T115119
CREATED:20240317T145703Z
LAST-MODIFIED:20240317T145703Z
UID:1317-1716631200-1716642000@yawara.de
SUMMARY:Landeslehrgang mit Bernd Herzhauser
DESCRIPTION:Thema: „Budo-Techniken im Ju-Jutsu“ \nDetails findet ihr hier.
URL:https://yawara.de/event/landeslehrgang-mit-bernd-herzhauser/
LOCATION:Erster Berliner Judo Club\, Mariendorfer Weg 69\, 12051 Berlin
END:VEVENT
BEGIN:VEVENT
DTSTART;VALUE=DATE:20240520
DTEND;VALUE=DATE:20240521
DTSTAMP:20260422T115119
CREATED:20240514T071253Z
LAST-MODIFIED:20240514T071315Z
UID:1329-1716163200-1716249599@yawara.de
SUMMARY:Am 20.5.24 (Pfingsten) fällt das Training aus
DESCRIPTION:
URL:https://yawara.de/event/am-20-5-24-pfingsten-faellt-das-training-aus/
END:VEVENT
BEGIN:VEVENT
DTSTART;TZID=Europe/Berlin:20240504T100000
DTEND;TZID=Europe/Berlin:20240504T130000
DTSTAMP:20260422T115119
CREATED:20240317T145409Z
LAST-MODIFIED:20240317T145409Z
UID:1314-1714816800-1714827600@yawara.de
SUMMARY:Lehrgang "Technikeffizienz steigern über Nervenpunkte"
DESCRIPTION:…mit Rene Grasse. \nAusschreibung
URL:https://yawara.de/event/lehrgang-technikeffizienz-steigern-ueber-nervenpunkte/
LOCATION:1. Judo-Club Märkisches Viertel 1968 e.V.\, Thomas-Mann-Gymnasium - Königshorster Straße 10\, 13439 Berlin
END:VEVENT
BEGIN:VEVENT
DTSTART;TZID=Europe/Berlin:20240427T130000
DTEND;TZID=Europe/Berlin:20240427T160000
DTSTAMP:20260422T115119
CREATED:20240417T185800Z
LAST-MODIFIED:20240417T185800Z
UID:1321-1714222800-1714233600@yawara.de
SUMMARY:Landeslehrgang „Stockabwehr und -anwendung“ in Bernau
DESCRIPTION:
URL:https://yawara.de/event/landeslehrgang-stockabwehr-und-anwendung-in-bernau/
END:VEVENT
BEGIN:VEVENT
DTSTART;TZID=Europe/Berlin:20240427T100000
DTEND;TZID=Europe/Berlin:20240427T180000
DTSTAMP:20260422T115119
CREATED:20240317T144741Z
LAST-MODIFIED:20240417T185528Z
UID:1310-1714212000-1714240800@yawara.de
SUMMARY:Ju Jitsu Akademie in Zeitz
DESCRIPTION:Ein Wochenende Ju Jutsu in Zeitz! \n>>Unser Motto dieses Jahr: “ 12 Jahre Akademie – 12 Referenten“<< \nDie Ausschreibung findet ihr hier. \nDer aktualisierte Workshop-Plan folgt in den nächsten Tagen auf www.jjvsa.de.
URL:https://yawara.de/event/ju-jitsu-akademie-in-zeitz/
END:VEVENT
BEGIN:VEVENT
DTSTART;TZID=Europe/Berlin:20240420T100000
DTEND;TZID=Europe/Berlin:20240420T130000
DTSTAMP:20260422T115119
CREATED:20240317T145043Z
LAST-MODIFIED:20240317T145043Z
UID:1312-1713607200-1713618000@yawara.de
SUMMARY:Ju Jutsu Lehrgang "Freie SV für alle" in Berlin
DESCRIPTION:Hier ist die Ausschreibung
URL:https://yawara.de/event/ju-jutsu-lehrgang-freie-sv-fuer-alle-in-berlin/
LOCATION:Sporthalle der „Grundschule am Dielingsgrund“\, Dielingsgrund 35\, 12305 Berlin
END:VEVENT
BEGIN:VEVENT
DTSTART;TZID=Europe/Berlin:20240309T100000
DTEND;TZID=Europe/Berlin:20240309T130000
DTSTAMP:20260422T115119
CREATED:20231211T155948Z
LAST-MODIFIED:20231211T155948Z
UID:1293-1709978400-1709989200@yawara.de
SUMMARY:Landeslehrgang Weiterführungs- und Gegentechniken im JJ
DESCRIPTION:Lothar Spielmann 4. Dan Ju-Jutsu\, Referent Ju-Jutsu im DJJV\, Vizepräsident Breitensport und Prüfungsreferent des Brandenburgischen JJ-Verband e.V. zeigt Weiterführungs- und Gegentechniken im Ju Jutsu. \nAusschreibung hier
URL:https://yawara.de/event/landeslehrgang-weiterfuehrungs-und-gegentechniken-im-jj/
LOCATION:Sporthalle der „Grundschule am Dielingsgrund“\, Dielingsgrund 35\, 12305 Berlin
END:VEVENT
BEGIN:VEVENT
DTSTART;TZID=Europe/Berlin:20240302T140000
DTEND;TZID=Europe/Berlin:20240303T140000
DTSTAMP:20260422T115119
CREATED:20240111T162705Z
LAST-MODIFIED:20240111T162705Z
UID:1298-1709388000-1709474400@yawara.de
SUMMARY:Filipino Fighting Arts Seminar in Neukölln
DESCRIPTION:
URL:https://yawara.de/event/filipino-fighting-arts-seminar-in-neukoelln/
LOCATION:Morusstr. 32\, Morusstr. 32\, Berlin
END:VEVENT
BEGIN:VEVENT
DTSTART;VALUE=DATE:20231124
DTEND;VALUE=DATE:20231127
DTSTAMP:20260422T115119
CREATED:20230918T193244Z
LAST-MODIFIED:20230918T193244Z
UID:1279-1700784000-1701043199@yawara.de
SUMMARY:Landesseminar des Brandenburgischen Ju Jutsu Verbandes
DESCRIPTION:Ausschreibung kommt noch…
URL:https://yawara.de/event/landesseminar-des-brandenburgischen-ju-jutsu-verbandes/
END:VEVENT
BEGIN:VEVENT
DTSTART;TZID=Europe/Berlin:20231111T100000
DTEND;TZID=Europe/Berlin:20231111T130000
DTSTAMP:20260422T115119
CREATED:20230918T193000Z
LAST-MODIFIED:20230918T193000Z
UID:1277-1699696800-1699707600@yawara.de
SUMMARY:Lehrgang: "Inhalte des neuen Prüfungsprogramms" in Großbeeren
DESCRIPTION:Ein weiterer Lehrgang: „Inhalte des neuen Prüfungsprogramms“ in Großbeeren mit Lothar Spielmann. Im Anschluss gibt es die Möglichkeit\, die Prüferlizenz zu erwerben (oder zu verlängern). \nAusschreibung
URL:https://yawara.de/event/lehrgang-inhalte-des-neuen-pruefungsprogramms-in-grossbeeren/
LOCATION:Budokan Großbeeren e.V.\, Teltower Str. 1\, 14979 Großbeeren
END:VEVENT
BEGIN:VEVENT
DTSTART;TZID=Europe/Berlin:20231014T100000
DTEND;TZID=Europe/Berlin:20231014T130000
DTSTAMP:20260422T115119
CREATED:20230903T185207Z
LAST-MODIFIED:20230903T185207Z
UID:1267-1697277600-1697288400@yawara.de
SUMMARY:Lehrgang: Inhalte des neuen Prüfungsprogramms Ju-Jutsu 2023 in Theorie und Praxis
DESCRIPTION:Ein weiterer Lehrgang: „Inhalte des neuen Prüfungsprogramms“ in Großbeeren mit Lothar Spielmann. Im Anschluss gibt es die Möglichkeit\, die Prüferlizenz zu erwerben (oder zu verlängern). \nAusschreibung
URL:https://yawara.de/event/lehrgang-inhalte-des-neuen-pruefungsprogramms-ju-jutsu-2023-in-theorie-und-praxis/
LOCATION:Budokan Großbeeren e.V.\, Teltower Str. 1\, 14979 Großbeeren
END:VEVENT
BEGIN:VEVENT
DTSTART;TZID=Europe/Berlin:20231007T100000
DTEND;TZID=Europe/Berlin:20231007T140000
DTSTAMP:20260422T115119
CREATED:20230903T184035Z
LAST-MODIFIED:20230903T184035Z
UID:1264-1696672800-1696687200@yawara.de
SUMMARY:Lehrgang: Einsatz von Nervendrucktechniken in der SV
DESCRIPTION:Jiu Jitsu Landeslehrgang Einsatz von Nervendrucktechniken in der SV mit René Grasse! Lohnt sich!!! \nHier findet ihr die Ausschreibung
URL:https://yawara.de/event/lehrgang-einsatz-von-nervendrucktechniken-in-der-sv/
LOCATION:Sporthalle der „Grundschule am Dielingsgrund“\, Dielingsgrund 35\, 12305 Berlin
END:VEVENT
BEGIN:VEVENT
DTSTART;TZID=Europe/Berlin:20230909T100000
DTEND;TZID=Europe/Berlin:20230909T130000
DTSTAMP:20260422T115119
CREATED:20230903T185517Z
LAST-MODIFIED:20230903T185517Z
UID:1270-1694253600-1694264400@yawara.de
SUMMARY:Lehrgang 'Abwehr gefährlicher Gegenstände' mit Heiko Schwarz
DESCRIPTION:Am kommenden Samstag…schnell noch anmelden!!! \nDieser Link führt zur Ausschreibung
URL:https://yawara.de/event/lehrgang-abwehr-gefaehrlicher-gegenstaende-mit-heiko-schwarz/
LOCATION:Budo-Club-Banzai e.V.\, Düsterhauptstr.17\, 13469 Berlin
END:VEVENT
BEGIN:VEVENT
DTSTART;VALUE=DATE:20230825
DTEND;VALUE=DATE:20230828
DTSTAMP:20260422T115119
CREATED:20230504T194304Z
LAST-MODIFIED:20230504T194304Z
UID:1252-1692921600-1693180799@yawara.de
SUMMARY:Mössenseefahrt
DESCRIPTION:Unsere jahrliche Vereinsfahrt….
URL:https://yawara.de/event/moessenseefahrt/
LOCATION:Mössensee-Event\, Kranichweg 6\, Mirow\, Brandenburg\, 17252\, Deutschland
END:VEVENT
BEGIN:VEVENT
DTSTART;VALUE=DATE:20230724
DTEND;VALUE=DATE:20230821
DTSTAMP:20260422T115119
CREATED:20230703T205205Z
LAST-MODIFIED:20230703T205205Z
UID:1260-1690156800-1692575999@yawara.de
SUMMARY:Schließzeit
DESCRIPTION:In den Sommerferien ist unsere Halle für 4 Wochen geschlossen. \nWenn genug Leute Zeitfinden\, treffen wir uns im Park… den Link zu Umfrage solltet ihr per Mail bekommen haben
URL:https://yawara.de/event/schliesszeit/
END:VEVENT
END:VCALENDAR